BEGIN:VCALENDAR
VERSION:2.0
PRODID:-//Groupe hôtelier Arcotel - ECPv5.16.3.1//NONSGML v1.0//EN
CALSCALE:GREGORIAN
METHOD:PUBLISH
X-WR-CALNAME:Groupe hôtelier Arcotel
X-ORIGINAL-URL:https://www.arcotel-hotel.com
X-WR-CALDESC:évènements pour Groupe hôtelier Arcotel
BEGIN:VTIMEZONE
TZID:Europe/Paris
BEGIN:DAYLIGHT
TZOFFSETFROM:+0100
TZOFFSETTO:+0200
TZNAME:CEST
DTSTART:20210328T010000
END:DAYLIGHT
BEGIN:STANDARD
TZOFFSETFROM:+0200
TZOFFSETTO:+0100
TZNAME:CET
DTSTART:20211031T010000
END:STANDARD
END:VTIMEZONE
BEGIN:VEVENT
DTSTART;VALUE=DATE:20210412
DTEND;VALUE=DATE:20210416
DTSTAMP:20260420T152431
CREATED:20170825T205039Z
LAST-MODIFIED:20170825T205039Z
UID:14345-1618192800-1618451999@www.arcotel-hotel.com
SUMMARY:Natural environment conference 2018
DESCRIPTION:Description\n\n	\n	\n	\n\n\n\n			\n	\n	\n	\n		\n	Enthralling local punk-cabaret chanteuse Shilpa Ray celebrates her recent album\, Door Girl\, inspired by her stint working the door at Manhattan venue Pianos. Dig into new tunes like "You're Fucking No One" and "Manhattanoid Creepazoids\," which hopefully don't hit too close to home. \n\n	\n\n	\n\n			\n	\n	\n	\n		\n	Enthralling local punk-cabaret chanteuse Shilpa Ray celebrates her recent album\, Door Girl\, inspired by her stint working the door at Manhattan venue Pianos. Dig into new tunes like "You're Fucking No One" and "Manhattanoid Creepazoids\," which hopefully don't hit too close to home.
URL:https://www.arcotel-hotel.com/classes/natural-environment-conference-2018/
LOCATION:New York Ardesia Bar\, Lexington Avenue\, New York\, NY\, 10022\, United States
CATEGORIES:Hotel,Unique
END:VEVENT
END:VCALENDAR